BEGIN:VCALENDAR
VERSION:2.0
PRODID:-//GRUNDSCHULE ETTRINGEN - ECPv6.15.11//NONSGML v1.0//EN
CALSCALE:GREGORIAN
METHOD:PUBLISH
X-ORIGINAL-URL:https://grundschule.ettringen-eifel.de
X-WR-CALDESC:Veranstaltungen für GRUNDSCHULE ETTRINGEN
REFRESH-INTERVAL;VALUE=DURATION:PT1H
X-Robots-Tag:noindex
X-PUBLISHED-TTL:PT1H
BEGIN:VTIMEZONE
TZID:UTC
BEGIN:STANDARD
TZOFFSETFROM:+0000
TZOFFSETTO:+0000
TZNAME:UTC
DTSTART:20240101T000000
END:STANDARD
END:VTIMEZONE
BEGIN:VEVENT
DTSTART;TZID=UTC:20260330T080000
DTEND;TZID=UTC:20260410T170000
DTSTAMP:20260420T132543
CREATED:20251206T113444Z
LAST-MODIFIED:20251206T113444Z
UID:5016-1774857600-1775840400@grundschule.ettringen-eifel.de
SUMMARY:Osterferien
DESCRIPTION:
URL:https://grundschule.ettringen-eifel.de/termine/osterferien-2/
END:VEVENT
BEGIN:VEVENT
DTSTART;TZID=UTC:20260217T080000
DTEND;TZID=UTC:20260217T130000
DTSTAMP:20260420T132543
CREATED:20250819T141459Z
LAST-MODIFIED:20250819T141459Z
UID:4781-1771315200-1771333200@grundschule.ettringen-eifel.de
SUMMARY:Beweglicher Ferientag (kein Unterricht)
DESCRIPTION:
URL:https://grundschule.ettringen-eifel.de/termine/beweglicher-ferientag-kein-unterricht-6/
END:VEVENT
BEGIN:VEVENT
DTSTART;TZID=UTC:20260216T080000
DTEND;TZID=UTC:20260216T130000
DTSTAMP:20260420T132543
CREATED:20250819T141209Z
LAST-MODIFIED:20250819T141420Z
UID:4773-1771228800-1771246800@grundschule.ettringen-eifel.de
SUMMARY:Beweglicher Ferientag (kein Unterricht)
DESCRIPTION:
URL:https://grundschule.ettringen-eifel.de/termine/beweglicher-ferientag-kein-unterricht-2/
END:VEVENT
BEGIN:VEVENT
DTSTART;TZID=UTC:20260213T080000
DTEND;TZID=UTC:20260213T130000
DTSTAMP:20260420T132543
CREATED:20250819T141140Z
LAST-MODIFIED:20250819T141140Z
UID:4771-1770969600-1770987600@grundschule.ettringen-eifel.de
SUMMARY:Beweglicher Ferientag (kein Unterricht)
DESCRIPTION:
URL:https://grundschule.ettringen-eifel.de/termine/beweglicher-ferientag-kein-unterricht/
END:VEVENT
BEGIN:VEVENT
DTSTART;TZID=UTC:20260130T080000
DTEND;TZID=UTC:20260130T130000
DTSTAMP:20260420T132543
CREATED:20250819T141058Z
LAST-MODIFIED:20250819T141058Z
UID:4769-1769760000-1769778000@grundschule.ettringen-eifel.de
SUMMARY:Ausgabe der HJ-Zeugnisse Klasse 3 & 4
DESCRIPTION:
URL:https://grundschule.ettringen-eifel.de/termine/ausgabe-der-hj-zeugnisse-klasse-3-4/
END:VEVENT
BEGIN:VEVENT
DTSTART;TZID=UTC:20251222T080000
DTEND;TZID=UTC:20260107T170000
DTSTAMP:20260420T132543
CREATED:20251206T113415Z
LAST-MODIFIED:20251206T113416Z
UID:5014-1766390400-1767805200@grundschule.ettringen-eifel.de
SUMMARY:Weihnachtsferien
DESCRIPTION:
URL:https://grundschule.ettringen-eifel.de/termine/weihnachtsferien-2/
END:VEVENT
BEGIN:VEVENT
DTSTART;TZID=UTC:20251128T080000
DTEND;TZID=UTC:20251128T130000
DTSTAMP:20260420T132543
CREATED:20250921T120810Z
LAST-MODIFIED:20250921T120811Z
UID:4839-1764316800-1764334800@grundschule.ettringen-eifel.de
SUMMARY:Weihnachtsbacken Kl. 4a
DESCRIPTION:
URL:https://grundschule.ettringen-eifel.de/termine/weihnachtsbacken-kl-4a/
END:VEVENT
BEGIN:VEVENT
DTSTART;TZID=UTC:20251127T080000
DTEND;TZID=UTC:20251127T130000
DTSTAMP:20260420T132543
CREATED:20250921T120710Z
LAST-MODIFIED:20250921T120710Z
UID:4836-1764230400-1764248400@grundschule.ettringen-eifel.de
SUMMARY:Weihnachtsbacken Kl. 3a/3b
DESCRIPTION:
URL:https://grundschule.ettringen-eifel.de/termine/weihnachtsbacken-kl-3a-3b/
END:VEVENT
BEGIN:VEVENT
DTSTART;TZID=UTC:20251125T080000
DTEND;TZID=UTC:20251125T130000
DTSTAMP:20260420T132543
CREATED:20250922T131604Z
LAST-MODIFIED:20250922T131605Z
UID:4856-1764057600-1764075600@grundschule.ettringen-eifel.de
SUMMARY:Weihnachtsbacken Kl. 2a
DESCRIPTION:
URL:https://grundschule.ettringen-eifel.de/termine/weihnachtsbacken-kl-2a/
END:VEVENT
BEGIN:VEVENT
DTSTART;TZID=UTC:20251123T140000
DTEND;TZID=UTC:20251123T170000
DTSTAMP:20260420T132543
CREATED:20250311T173641Z
LAST-MODIFIED:20250311T173641Z
UID:4350-1763906400-1763917200@grundschule.ettringen-eifel.de
SUMMARY:Spielzeugbasar des Fördervereins
DESCRIPTION:
URL:https://grundschule.ettringen-eifel.de/termine/spielzeugbasar-des-foerdervereins/
END:VEVENT
BEGIN:VEVENT
DTSTART;TZID=UTC:20251108T180000
DTEND;TZID=UTC:20251108T200000
DTSTAMP:20260420T132543
CREATED:20250819T141012Z
LAST-MODIFIED:20250819T141012Z
UID:4767-1762624800-1762632000@grundschule.ettringen-eifel.de
SUMMARY:St. Martins-Zug Ettringen
DESCRIPTION:
URL:https://grundschule.ettringen-eifel.de/termine/st-martins-zug-ettringen/
END:VEVENT
BEGIN:VEVENT
DTSTART;TZID=UTC:20251105T080000
DTEND;TZID=UTC:20251105T130000
DTSTAMP:20260420T132543
CREATED:20250819T140937Z
LAST-MODIFIED:20250819T140937Z
UID:4765-1762329600-1762347600@grundschule.ettringen-eifel.de
SUMMARY:Besuch des Zahnarztes
DESCRIPTION:
URL:https://grundschule.ettringen-eifel.de/termine/besuch-des-zahnarztes-3/
END:VEVENT
BEGIN:VEVENT
DTSTART;TZID=UTC:20250917T180000
DTEND;TZID=UTC:20250917T210000
DTSTAMP:20260420T132543
CREATED:20250819T140907Z
LAST-MODIFIED:20250819T140907Z
UID:4763-1758132000-1758142800@grundschule.ettringen-eifel.de
SUMMARY:Elternabende und SEB-Wahl
DESCRIPTION:
URL:https://grundschule.ettringen-eifel.de/termine/elternabende-und-seb-wahl/
END:VEVENT
BEGIN:VEVENT
DTSTART;TZID=UTC:20250915T080000
DTEND;TZID=UTC:20250915T130000
DTSTAMP:20260420T132543
CREATED:20250902T154803Z
LAST-MODIFIED:20250902T154803Z
UID:4797-1757923200-1757941200@grundschule.ettringen-eifel.de
SUMMARY:Wandertag (Kirmesmontag)
DESCRIPTION:
URL:https://grundschule.ettringen-eifel.de/termine/wandertag-kirmesmontag-2/
END:VEVENT
BEGIN:VEVENT
DTSTART;TZID=UTC:20250911T080000
DTEND;TZID=UTC:20250911T130000
DTSTAMP:20260420T132543
CREATED:20250819T140829Z
LAST-MODIFIED:20250819T140829Z
UID:4761-1757577600-1757595600@grundschule.ettringen-eifel.de
SUMMARY:Verkehrsprüfung Klasse e4
DESCRIPTION:
URL:https://grundschule.ettringen-eifel.de/termine/verkehrspruefung-klasse-e4/
END:VEVENT
BEGIN:VEVENT
DTSTART;TZID=UTC:20250907T100000
DTEND;TZID=UTC:20250907T120000
DTSTAMP:20260420T132543
CREATED:20250311T173556Z
LAST-MODIFIED:20250311T173556Z
UID:4348-1757239200-1757246400@grundschule.ettringen-eifel.de
SUMMARY:Herbstbasar des Fördervereins
DESCRIPTION:
URL:https://grundschule.ettringen-eifel.de/termine/herbstbasar-des-foerdervereins/
END:VEVENT
BEGIN:VEVENT
DTSTART;TZID=UTC:20250901T080000
DTEND;TZID=UTC:20250901T130000
DTSTAMP:20260420T132543
CREATED:20250819T140659Z
LAST-MODIFIED:20250819T140718Z
UID:4757-1756713600-1756731600@grundschule.ettringen-eifel.de
SUMMARY:Verkehrsübung Klasse 4
DESCRIPTION:
URL:https://grundschule.ettringen-eifel.de/termine/verkehrsuebung-klasse-4/
END:VEVENT
BEGIN:VEVENT
DTSTART;TZID=UTC:20250826T080000
DTEND;TZID=UTC:20250826T130000
DTSTAMP:20260420T132543
CREATED:20250819T140801Z
LAST-MODIFIED:20250819T140801Z
UID:4759-1756195200-1756213200@grundschule.ettringen-eifel.de
SUMMARY:Verkehrserziehung Klasse 4
DESCRIPTION:
URL:https://grundschule.ettringen-eifel.de/termine/verkehrserziehung-klasse-4/
END:VEVENT
BEGIN:VEVENT
DTSTART;TZID=UTC:20250820T080000
DTEND;TZID=UTC:20250822T170000
DTSTAMP:20260420T132543
CREATED:20250819T140620Z
LAST-MODIFIED:20250819T140620Z
UID:4755-1755676800-1755882000@grundschule.ettringen-eifel.de
SUMMARY:Klassenfahrt 4a & 4b
DESCRIPTION:
URL:https://grundschule.ettringen-eifel.de/termine/klassenfahrt-4a-4b/
END:VEVENT
BEGIN:VEVENT
DTSTART;TZID=UTC:20250819T100000
DTEND;TZID=UTC:20250819T120000
DTSTAMP:20260420T132543
CREATED:20250311T173443Z
LAST-MODIFIED:20250311T173443Z
UID:4346-1755597600-1755604800@grundschule.ettringen-eifel.de
SUMMARY:Eltern-Café des Fördervereins (Einschulung)
DESCRIPTION:
URL:https://grundschule.ettringen-eifel.de/termine/eltern-cafe-des-foerdervereins-einschulung/
END:VEVENT
BEGIN:VEVENT
DTSTART;TZID=UTC:20250704T080000
DTEND;TZID=UTC:20250704T120000
DTSTAMP:20260420T132543
CREATED:20240822T175917Z
LAST-MODIFIED:20240822T175917Z
UID:3343-1751616000-1751630400@grundschule.ettringen-eifel.de
SUMMARY:Ausgabe der Jahreszeugnisse
DESCRIPTION:
URL:https://grundschule.ettringen-eifel.de/termine/ausgabe-der-jahreszeugnisse/
END:VEVENT
BEGIN:VEVENT
DTSTART;TZID=UTC:20250626T080000
DTEND;TZID=UTC:20250626T130000
DTSTAMP:20260420T132543
CREATED:20250115T045302Z
LAST-MODIFIED:20250115T045302Z
UID:4275-1750924800-1750942800@grundschule.ettringen-eifel.de
SUMMARY:Burgfestspiele Mayen
DESCRIPTION:
URL:https://grundschule.ettringen-eifel.de/termine/burgfestspiele-mayen-2/
END:VEVENT
BEGIN:VEVENT
DTSTART;TZID=UTC:20250620T000000
DTEND;TZID=UTC:20250620T235959
DTSTAMP:20260420T132543
CREATED:20240822T175823Z
LAST-MODIFIED:20240822T175823Z
UID:3341-1750377600-1750463999@grundschule.ettringen-eifel.de
SUMMARY:6. Beweglicher Ferientag
DESCRIPTION:kein Unterricht
URL:https://grundschule.ettringen-eifel.de/termine/6-beweglicher-ferientag/
END:VEVENT
BEGIN:VEVENT
DTSTART;TZID=UTC:20250619T000000
DTEND;TZID=UTC:20250619T235959
DTSTAMP:20260420T132543
CREATED:20240822T175759Z
LAST-MODIFIED:20240822T175759Z
UID:3339-1750291200-1750377599@grundschule.ettringen-eifel.de
SUMMARY:Fronleichnam
DESCRIPTION:
URL:https://grundschule.ettringen-eifel.de/termine/fronleichnam/
END:VEVENT
BEGIN:VEVENT
DTSTART;TZID=UTC:20250609T000000
DTEND;TZID=UTC:20250609T235959
DTSTAMP:20260420T132543
CREATED:20240822T175738Z
LAST-MODIFIED:20240822T175738Z
UID:3337-1749427200-1749513599@grundschule.ettringen-eifel.de
SUMMARY:Pfingstmontag
DESCRIPTION:
URL:https://grundschule.ettringen-eifel.de/termine/pfingstmontag/
END:VEVENT
BEGIN:VEVENT
DTSTART;TZID=UTC:20250606T080000
DTEND;TZID=UTC:20250606T130000
DTSTAMP:20260420T132543
CREATED:20240822T175704Z
LAST-MODIFIED:20250411T151944Z
UID:3335-1749196800-1749214800@grundschule.ettringen-eifel.de
SUMMARY:Sportfest
DESCRIPTION:
URL:https://grundschule.ettringen-eifel.de/termine/ausweichtermin-sportfest/
END:VEVENT
BEGIN:VEVENT
DTSTART;TZID=UTC:20250604T090000
DTEND;TZID=UTC:20250604T110000
DTSTAMP:20260420T132543
CREATED:20250318T134408Z
LAST-MODIFIED:20250318T134408Z
UID:4379-1749027600-1749034800@grundschule.ettringen-eifel.de
SUMMARY:Besuch der KIGA-Kinder
DESCRIPTION:
URL:https://grundschule.ettringen-eifel.de/termine/besuch-der-kiga-kinder/
END:VEVENT
BEGIN:VEVENT
DTSTART;TZID=UTC:20250530T000000
DTEND;TZID=UTC:20250530T235959
DTSTAMP:20260420T132543
CREATED:20240822T175641Z
LAST-MODIFIED:20240822T175641Z
UID:3333-1748563200-1748649599@grundschule.ettringen-eifel.de
SUMMARY:5. Beweglicher Ferientag
DESCRIPTION:kein Unterricht
URL:https://grundschule.ettringen-eifel.de/termine/5-beweglicher-ferientag/
END:VEVENT
BEGIN:VEVENT
DTSTART;TZID=UTC:20250529T000000
DTEND;TZID=UTC:20250529T235959
DTSTAMP:20260420T132543
CREATED:20240822T175610Z
LAST-MODIFIED:20240822T175610Z
UID:3331-1748476800-1748563199@grundschule.ettringen-eifel.de
SUMMARY:Christi Himmelfahrt
DESCRIPTION:kein Unterricht
URL:https://grundschule.ettringen-eifel.de/termine/christi-himmelfahrt/
END:VEVENT
BEGIN:VEVENT
DTSTART;TZID=UTC:20250526T000000
DTEND;TZID=UTC:20250526T235959
DTSTAMP:20260420T132543
CREATED:20240822T175537Z
LAST-MODIFIED:20250310T170047Z
UID:3329-1748217600-1748303999@grundschule.ettringen-eifel.de
SUMMARY:Studientag Kollegium
DESCRIPTION:kein Unterricht
URL:https://grundschule.ettringen-eifel.de/termine/studientag-kollegium/
END:VEVENT
END:VCALENDAR